BEGIN:VCALENDAR
VERSION:2.0
PRODID:-//North Carolina Humanities - ECPv6.15.20//NONSGML v1.0//EN
CALSCALE:GREGORIAN
METHOD:PUBLISH
X-ORIGINAL-URL:https://nchumanities.org
X-WR-CALDESC:Events for North Carolina Humanities
REFRESH-INTERVAL;VALUE=DURATION:PT1H
X-Robots-Tag:noindex
X-PUBLISHED-TTL:PT1H
BEGIN:VTIMEZONE
TZID:America/New_York
BEGIN:DAYLIGHT
TZOFFSETFROM:-0500
TZOFFSETTO:-0400
TZNAME:EDT
DTSTART:20240310T070000
END:DAYLIGHT
BEGIN:STANDARD
TZOFFSETFROM:-0400
TZOFFSETTO:-0500
TZNAME:EST
DTSTART:20241103T060000
END:STANDARD
BEGIN:DAYLIGHT
TZOFFSETFROM:-0500
TZOFFSETTO:-0400
TZNAME:EDT
DTSTART:20250309T070000
END:DAYLIGHT
BEGIN:STANDARD
TZOFFSETFROM:-0400
TZOFFSETTO:-0500
TZNAME:EST
DTSTART:20251102T060000
END:STANDARD
BEGIN:DAYLIGHT
TZOFFSETFROM:-0500
TZOFFSETTO:-0400
TZNAME:EDT
DTSTART:20260308T070000
END:DAYLIGHT
BEGIN:STANDARD
TZOFFSETFROM:-0400
TZOFFSETTO:-0500
TZNAME:EST
DTSTART:20261101T060000
END:STANDARD
END:VTIMEZONE
BEGIN:VEVENT
DTSTART;TZID=America/New_York:20250908T080000
DTEND;TZID=America/New_York:20250912T170000
DTSTAMP:20260420T074246
CREATED:20250626T173318Z
LAST-MODIFIED:20250626T173318Z
UID:10001076-1757318400-1757696400@nchumanities.org
SUMMARY:I’ll Make You A Punty You Can’t Refuse! (A 5-day crash course in american-style venetian glassblowing)
DESCRIPTION:Join guest instructor and glass artist Jason McDonald at Starworks in Star\, NC for a skill-focused dive into the delicate art of Venetian-style goblet making. Whether you’re new to glassblowing or already have studio experience\, this class is designed to meet you where you are. Students with some basic experience will get the most from this intensive course—but if you’re a first-timer\, don’t worry: additional assistance will be available to help you jump in safely and confidently. Sept 8-12. NEW onsite housing available!
URL:https://nchumanities.org/event/ill-make-you-a-punty-you-cant-refuse-a-5-day-crash-course-in-american-style-venetian-glassblowing/
LOCATION:Starworks – 100 Russell Drive\, Star\, NC\, 100 Russell Dr\, Star\, NC\, 27356\, United States
ATTACH;FMTTYPE=image/jpeg:https://nchumanities.org/wp-content/uploads/2025/06/81BD12C5-A4C9-4F3C-B2F0-5C99DD1E9696_1_105_c.jpeg
ORGANIZER;CN="Starworks":MAILTO:Contact@StarworksNC.org
END:VEVENT
BEGIN:VEVENT
DTSTART;TZID=America/New_York:20250912T090000
DTEND;TZID=America/New_York:20250912T133000
DTSTAMP:20260420T074246
CREATED:20250218T171756Z
LAST-MODIFIED:20250218T171756Z
UID:10000992-1757667600-1757683800@nchumanities.org
SUMMARY:NC Humanities Board Meeting
DESCRIPTION:
URL:https://nchumanities.org/event/nc-humanities-board-meeting-5/
LOCATION:NC
CATEGORIES:NC Humanities Board Meeting
END:VEVENT
END:VCALENDAR