BEGIN:VCALENDAR
VERSION:2.0
PRODID:-//North Carolina Humanities - ECPv6.15.20//NONSGML v1.0//EN
CALSCALE:GREGORIAN
METHOD:PUBLISH
X-ORIGINAL-URL:https://nchumanities.org
X-WR-CALDESC:Events for North Carolina Humanities
REFRESH-INTERVAL;VALUE=DURATION:PT1H
X-Robots-Tag:noindex
X-PUBLISHED-TTL:PT1H
BEGIN:VTIMEZONE
TZID:America/New_York
BEGIN:DAYLIGHT
TZOFFSETFROM:-0500
TZOFFSETTO:-0400
TZNAME:EDT
DTSTART:20250309T070000
END:DAYLIGHT
BEGIN:STANDARD
TZOFFSETFROM:-0400
TZOFFSETTO:-0500
TZNAME:EST
DTSTART:20251102T060000
END:STANDARD
BEGIN:DAYLIGHT
TZOFFSETFROM:-0500
TZOFFSETTO:-0400
TZNAME:EDT
DTSTART:20260308T070000
END:DAYLIGHT
BEGIN:STANDARD
TZOFFSETFROM:-0400
TZOFFSETTO:-0500
TZNAME:EST
DTSTART:20261101T060000
END:STANDARD
BEGIN:DAYLIGHT
TZOFFSETFROM:-0500
TZOFFSETTO:-0400
TZNAME:EDT
DTSTART:20270314T070000
END:DAYLIGHT
BEGIN:STANDARD
TZOFFSETFROM:-0400
TZOFFSETTO:-0500
TZNAME:EST
DTSTART:20271107T060000
END:STANDARD
END:VTIMEZONE
BEGIN:VEVENT
DTSTART;TZID=America/New_York:20260507T183000
DTEND;TZID=America/New_York:20260507T203000
DTSTAMP:20260421T100645
CREATED:20260420T134635Z
LAST-MODIFIED:20260420T134635Z
UID:10001377-1778178600-1778185800@nchumanities.org
SUMMARY:REFUGE Film Screening and Panel
DESCRIPTION:Join us for a screening of the 2023 documentary REFUGE. \nThe film follows a former white nationalist leader as he begins to confront his beliefs after connecting with a Muslim refugee doctor and the community in Clarkston\, Georgia. Through their experiences\, REFUGE looks at the roots of hate and what it can take to move past it. \nThe screening will be followed by a discussion with local and national experts on how people and communities work through division\, build trust\, and find common ground. \nPanelists include: \nAshley Glimasinski\, Administrative Director and Education Manager\, We Choose Welcome\nMaryam S. Khan\, Staff Attorney – Immigrant & Refugee Rights Project\, North Carolina Justice Center\nRev. Timothy McMahan King is a deacon in the Episcopal Church\, speaker\, and author\nDr. Omer\, Field Office Director\, Raleigh\, NC\, U.S. Committee for Refugees and Immigrants \nDoors open at 6:15 p.m.\, and the event begins at 6:30 p.m. Heavy snacks will be provided. \nThis program is presented in partnership with We Choose Welcome and was financially supported by Welcome.US. It is presented in anticipation of the June opening of Patterns of Belonging: English Learners’ Reflections on America 250.
URL:https://nchumanities.org/event/refuge-film-screening-and-panel/
LOCATION:City of Raleigh Museum\, 220 Fayetteville Street\, Raleigh\, NC\, 27601\, United States
ATTACH;FMTTYPE=image/jpeg:https://nchumanities.org/wp-content/uploads/2026/04/refuge-movie.jpg
ORGANIZER;CN="The City of Raleigh Museum":MAILTO:cormuseum@gmail.com
GEO:35.7776508;-78.6397629
X-APPLE-STRUCTURED-LOCATION;VALUE=URI;X-ADDRESS=City of Raleigh Museum 220 Fayetteville Street Raleigh NC 27601 United States;X-APPLE-RADIUS=500;X-TITLE=220 Fayetteville Street:geo:-78.6397629,35.7776508
END:VEVENT
END:VCALENDAR