BEGIN:VCALENDAR
VERSION:2.0
PRODID:-//North Carolina Humanities - ECPv6.15.20//NONSGML v1.0//EN
CALSCALE:GREGORIAN
METHOD:PUBLISH
X-ORIGINAL-URL:https://nchumanities.org
X-WR-CALDESC:Events for North Carolina Humanities
REFRESH-INTERVAL;VALUE=DURATION:PT1H
X-Robots-Tag:noindex
X-PUBLISHED-TTL:PT1H
BEGIN:VTIMEZONE
TZID:America/New_York
BEGIN:DAYLIGHT
TZOFFSETFROM:-0500
TZOFFSETTO:-0400
TZNAME:EDT
DTSTART:20250309T070000
END:DAYLIGHT
BEGIN:STANDARD
TZOFFSETFROM:-0400
TZOFFSETTO:-0500
TZNAME:EST
DTSTART:20251102T060000
END:STANDARD
BEGIN:DAYLIGHT
TZOFFSETFROM:-0500
TZOFFSETTO:-0400
TZNAME:EDT
DTSTART:20260308T070000
END:DAYLIGHT
BEGIN:STANDARD
TZOFFSETFROM:-0400
TZOFFSETTO:-0500
TZNAME:EST
DTSTART:20261101T060000
END:STANDARD
BEGIN:DAYLIGHT
TZOFFSETFROM:-0500
TZOFFSETTO:-0400
TZNAME:EDT
DTSTART:20270314T070000
END:DAYLIGHT
BEGIN:STANDARD
TZOFFSETFROM:-0400
TZOFFSETTO:-0500
TZNAME:EST
DTSTART:20271107T060000
END:STANDARD
END:VTIMEZONE
BEGIN:VEVENT
DTSTART;TZID=America/New_York:20260301T100000
DTEND;TZID=America/New_York:20260301T110000
DTSTAMP:20260421T103549
CREATED:20250912T185348Z
LAST-MODIFIED:20250912T185348Z
UID:10001152-1772359200-1772362800@nchumanities.org
SUMMARY:Fall African American Walking Tours
DESCRIPTION:Autumn is perfect for walking! Explore Raleigh’s historic\, influential Black neighborhood\, the Third Ward\, near Shaw University—a hub of culture\, business\, and education.  \nRegistration is required. $10 per adult and $5 per child (ages 5-17)  \n  \nNOTE: Saturday tour times are 10 am\, 1 pm\, and 3 pm. Sunday time 2 pm \n  \nSeptember: Saturday 20th\, 27th and Sunday 21st\, 28th \nOctober: Saturday 4th\, 11th\, 18th\, 25th\, and Sunday 5th\, 12th\, 19th\, 26th \nNovember: Saturday 1st\, 8th\, 22nd and Sunday 2nd\, 9th\, 16th\, 23rd\, \nDecember: Saturday 6th\, 13th\, 20th\, and Sunday 7th\, 14th\, 21st
URL:https://nchumanities.org/event/fall-african-american-walking-tours/2026-03-01/
LOCATION:Pope House Museum\, 511 S Wilmington St\, Raleigh\, NC\, NC\, 27601\, United States
CATEGORIES:Humanities Sector Event
ATTACH;FMTTYPE=image/jpeg:https://nchumanities.org/wp-content/uploads/2025/09/832c5dfa-a132-47f3-bcb8-5bca9039cff6-scaled.jpg
ORGANIZER;CN="The City of Raleigh Museum":MAILTO:cormuseum@gmail.com
END:VEVENT
BEGIN:VEVENT
DTSTART;TZID=America/New_York:20260301T163000
DTEND;TZID=America/New_York:20260301T173000
DTSTAMP:20260421T103549
CREATED:20260217T134812Z
LAST-MODIFIED:20260217T134812Z
UID:10001320-1772382600-1772386200@nchumanities.org
SUMMARY:Poet Quartet features poet U.S. Cultural Ambassador Ronald Rand at Asheville's Malaprops Bookstore/Cafe Reading from "The Marsh in May and 30 Poems with 29 Paintings by Ronald Rand"
DESCRIPTION:Come and experience the healing grace of poetry!!! U.S. Cultural Ambassador Ronald Rand will read his poetry at Asheville’s Malaprops Bookstore/Cafe’s monthly Poet Quartet reading series on Sunday\, March 1st\, 4:30pm-5:30pm\, 55 Haywood Street\, curated by Mildred Barya. This month’s Poet Quartet features Ronald Rand\, Maureen Sherbondy\, Rosalynn Cimino\, and Kelly Riedesel reading from their newest collections. The event is free\, but registration is required to reserve your seat. RSVP at: https://malaprops.com/event/2026-03-01/poet-quartet\nRonald Rand’s newest book\, “The Marsh in May and 30 Poems with 29 Paintings by Ronald Rand” is his  debut poetry and paintings book and includes thirty-one full-color luminous paintings\, described by North Carolina Poet Laureate Jaki Shelton Green as…“a deeply immersive\, poetic exploration that captures our daily collective witness and powerful pauses “as the gong of life dances in the breeze. Ronald Rand delivers an image-rich quiet explosion of vibrant art and poems that become universal offerings of solitude\, wisdom\, healing\, joy\, and empathy.”\nThe collection is found at: https://www.sunburypress.com/collections/ronald-rand and includes odes about Thomas Wolfe\, Edwin Booth\, Jean-Claude van Itallie\, and to the poet’s mother; and transforming experiences inspired by landscapes from Mostar to Fez\, Olympia and Kathmandu.\nReaders are invited to float along the Tennessee River\, step back to the dawn of cave art\, witness the moment Helen Keller recognized water\, and sit quietly in a field with a single chimney—resting\, reflecting\, and soaring within Rand’s heartfelt visual and poetic landscapes.\nFor readers who love poetry\, art\, nature\, and the gift of life\, come and experience a deeply moving and transformative experience in “The Marsh in May and 30 Poems with 29 Paintings by Ronald Rand!!!\nRonald Rand is a U.S. Cultural Ambassador\, award-winning Solo\nPerforming Artist\, and the author of four books: “Solo Transformation on Stage”\, “CREATE! How Extraordinary People Live to Create and Create to Live”\, with 130 interviews\, “Acting Teachers of America”\, and his newest book\, “The Marsh in May and 30 poems with 29 paintings by Ronald Rand”.\nHe has toured around the globe for 26 years in his award-winning performance as Harold Clurman in his internationally-acclaimed solo play\, “LET IT BE ART!” to 28 countries. and 21 states. The State Department and Fulbright Program awarded Ronald Rand four Fulbright Awards as a Fulbright Specialist Scholar/Visiting Guest Professor in Malaysia\, Uruguay\, Greece\, and Bosnia & Herzegovina.\nRonald is the Founder & Publisher of “The Soul of the American Actor.” He is the Librettist of “IBSEN”\, the first opera ever written about Henrik Ibsen\, and the screenwriter of “GROUP PARADISE”\, the first feature film about the famed 1930s Group Theater. He has appeared in several Off-Broadway plays and regional productions\, and in over two hundred films and TV shows. An internationally acclaimed Stage Director\, he has been a Master Acting Teacher and Visiting Guest Professor at more than fifty universities\, colleges\, acting schools\, and festivals on five continents.
URL:https://nchumanities.org/event/poet-quartet-features-poet-u-s-cultural-ambassador-ronald-rand-at-ashevilles-malaprops-bookstore-cafe-reading-from-the-marsh-in-may-and-30-poems-with-29-paintings-by-ronald-rand/
LOCATION:Malaprops Bookstore/Cafe\, 55 Haywood Street\, Asheville\, NC\, 28801\, United States
CATEGORIES:Humanities Sector Event
ATTACH;FMTTYPE=image/png:https://nchumanities.org/wp-content/uploads/2026/02/Flyer-Malaproips-Oratorio-Poetry-monthly-event-March-1-2026-with-Ronald-Rand.png
ORGANIZER;CN="Malaprops Bookstore/Cafe":MAILTO:info@malaprops.com
END:VEVENT
BEGIN:VEVENT
DTSTART;TZID=America/New_York:20260307T100000
DTEND;TZID=America/New_York:20260307T110000
DTSTAMP:20260421T103549
CREATED:20250912T185348Z
LAST-MODIFIED:20250912T185348Z
UID:10001153-1772877600-1772881200@nchumanities.org
SUMMARY:Fall African American Walking Tours
DESCRIPTION:Autumn is perfect for walking! Explore Raleigh’s historic\, influential Black neighborhood\, the Third Ward\, near Shaw University—a hub of culture\, business\, and education.  \nRegistration is required. $10 per adult and $5 per child (ages 5-17)  \n  \nNOTE: Saturday tour times are 10 am\, 1 pm\, and 3 pm. Sunday time 2 pm \n  \nSeptember: Saturday 20th\, 27th and Sunday 21st\, 28th \nOctober: Saturday 4th\, 11th\, 18th\, 25th\, and Sunday 5th\, 12th\, 19th\, 26th \nNovember: Saturday 1st\, 8th\, 22nd and Sunday 2nd\, 9th\, 16th\, 23rd\, \nDecember: Saturday 6th\, 13th\, 20th\, and Sunday 7th\, 14th\, 21st
URL:https://nchumanities.org/event/fall-african-american-walking-tours/2026-03-07/
LOCATION:Pope House Museum\, 511 S Wilmington St\, Raleigh\, NC\, NC\, 27601\, United States
CATEGORIES:Humanities Sector Event
ATTACH;FMTTYPE=image/jpeg:https://nchumanities.org/wp-content/uploads/2025/09/832c5dfa-a132-47f3-bcb8-5bca9039cff6-scaled.jpg
ORGANIZER;CN="The City of Raleigh Museum":MAILTO:cormuseum@gmail.com
END:VEVENT
BEGIN:VEVENT
DTSTART;TZID=America/New_York:20260308T100000
DTEND;TZID=America/New_York:20260308T110000
DTSTAMP:20260421T103549
CREATED:20250912T185348Z
LAST-MODIFIED:20250912T185348Z
UID:10001154-1772964000-1772967600@nchumanities.org
SUMMARY:Fall African American Walking Tours
DESCRIPTION:Autumn is perfect for walking! Explore Raleigh’s historic\, influential Black neighborhood\, the Third Ward\, near Shaw University—a hub of culture\, business\, and education.  \nRegistration is required. $10 per adult and $5 per child (ages 5-17)  \n  \nNOTE: Saturday tour times are 10 am\, 1 pm\, and 3 pm. Sunday time 2 pm \n  \nSeptember: Saturday 20th\, 27th and Sunday 21st\, 28th \nOctober: Saturday 4th\, 11th\, 18th\, 25th\, and Sunday 5th\, 12th\, 19th\, 26th \nNovember: Saturday 1st\, 8th\, 22nd and Sunday 2nd\, 9th\, 16th\, 23rd\, \nDecember: Saturday 6th\, 13th\, 20th\, and Sunday 7th\, 14th\, 21st
URL:https://nchumanities.org/event/fall-african-american-walking-tours/2026-03-08/
LOCATION:Pope House Museum\, 511 S Wilmington St\, Raleigh\, NC\, NC\, 27601\, United States
CATEGORIES:Humanities Sector Event
ATTACH;FMTTYPE=image/jpeg:https://nchumanities.org/wp-content/uploads/2025/09/832c5dfa-a132-47f3-bcb8-5bca9039cff6-scaled.jpg
ORGANIZER;CN="The City of Raleigh Museum":MAILTO:cormuseum@gmail.com
END:VEVENT
BEGIN:VEVENT
DTSTART;TZID=America/New_York:20260314T100000
DTEND;TZID=America/New_York:20260314T110000
DTSTAMP:20260421T103549
CREATED:20250912T185348Z
LAST-MODIFIED:20250912T185348Z
UID:10001155-1773482400-1773486000@nchumanities.org
SUMMARY:Fall African American Walking Tours
DESCRIPTION:Autumn is perfect for walking! Explore Raleigh’s historic\, influential Black neighborhood\, the Third Ward\, near Shaw University—a hub of culture\, business\, and education.  \nRegistration is required. $10 per adult and $5 per child (ages 5-17)  \n  \nNOTE: Saturday tour times are 10 am\, 1 pm\, and 3 pm. Sunday time 2 pm \n  \nSeptember: Saturday 20th\, 27th and Sunday 21st\, 28th \nOctober: Saturday 4th\, 11th\, 18th\, 25th\, and Sunday 5th\, 12th\, 19th\, 26th \nNovember: Saturday 1st\, 8th\, 22nd and Sunday 2nd\, 9th\, 16th\, 23rd\, \nDecember: Saturday 6th\, 13th\, 20th\, and Sunday 7th\, 14th\, 21st
URL:https://nchumanities.org/event/fall-african-american-walking-tours/2026-03-14/
LOCATION:Pope House Museum\, 511 S Wilmington St\, Raleigh\, NC\, NC\, 27601\, United States
CATEGORIES:Humanities Sector Event
ATTACH;FMTTYPE=image/jpeg:https://nchumanities.org/wp-content/uploads/2025/09/832c5dfa-a132-47f3-bcb8-5bca9039cff6-scaled.jpg
ORGANIZER;CN="The City of Raleigh Museum":MAILTO:cormuseum@gmail.com
END:VEVENT
BEGIN:VEVENT
DTSTART;TZID=America/New_York:20260315T100000
DTEND;TZID=America/New_York:20260315T110000
DTSTAMP:20260421T103549
CREATED:20250912T185348Z
LAST-MODIFIED:20250912T185348Z
UID:10001156-1773568800-1773572400@nchumanities.org
SUMMARY:Fall African American Walking Tours
DESCRIPTION:Autumn is perfect for walking! Explore Raleigh’s historic\, influential Black neighborhood\, the Third Ward\, near Shaw University—a hub of culture\, business\, and education.  \nRegistration is required. $10 per adult and $5 per child (ages 5-17)  \n  \nNOTE: Saturday tour times are 10 am\, 1 pm\, and 3 pm. Sunday time 2 pm \n  \nSeptember: Saturday 20th\, 27th and Sunday 21st\, 28th \nOctober: Saturday 4th\, 11th\, 18th\, 25th\, and Sunday 5th\, 12th\, 19th\, 26th \nNovember: Saturday 1st\, 8th\, 22nd and Sunday 2nd\, 9th\, 16th\, 23rd\, \nDecember: Saturday 6th\, 13th\, 20th\, and Sunday 7th\, 14th\, 21st
URL:https://nchumanities.org/event/fall-african-american-walking-tours/2026-03-15/
LOCATION:Pope House Museum\, 511 S Wilmington St\, Raleigh\, NC\, NC\, 27601\, United States
CATEGORIES:Humanities Sector Event
ATTACH;FMTTYPE=image/jpeg:https://nchumanities.org/wp-content/uploads/2025/09/832c5dfa-a132-47f3-bcb8-5bca9039cff6-scaled.jpg
ORGANIZER;CN="The City of Raleigh Museum":MAILTO:cormuseum@gmail.com
END:VEVENT
BEGIN:VEVENT
DTSTART;TZID=America/New_York:20260321T100000
DTEND;TZID=America/New_York:20260321T110000
DTSTAMP:20260421T103549
CREATED:20250912T185348Z
LAST-MODIFIED:20250912T185348Z
UID:10001157-1774087200-1774090800@nchumanities.org
SUMMARY:Fall African American Walking Tours
DESCRIPTION:Autumn is perfect for walking! Explore Raleigh’s historic\, influential Black neighborhood\, the Third Ward\, near Shaw University—a hub of culture\, business\, and education.  \nRegistration is required. $10 per adult and $5 per child (ages 5-17)  \n  \nNOTE: Saturday tour times are 10 am\, 1 pm\, and 3 pm. Sunday time 2 pm \n  \nSeptember: Saturday 20th\, 27th and Sunday 21st\, 28th \nOctober: Saturday 4th\, 11th\, 18th\, 25th\, and Sunday 5th\, 12th\, 19th\, 26th \nNovember: Saturday 1st\, 8th\, 22nd and Sunday 2nd\, 9th\, 16th\, 23rd\, \nDecember: Saturday 6th\, 13th\, 20th\, and Sunday 7th\, 14th\, 21st
URL:https://nchumanities.org/event/fall-african-american-walking-tours/2026-03-21/
LOCATION:Pope House Museum\, 511 S Wilmington St\, Raleigh\, NC\, NC\, 27601\, United States
CATEGORIES:Humanities Sector Event
ATTACH;FMTTYPE=image/jpeg:https://nchumanities.org/wp-content/uploads/2025/09/832c5dfa-a132-47f3-bcb8-5bca9039cff6-scaled.jpg
ORGANIZER;CN="The City of Raleigh Museum":MAILTO:cormuseum@gmail.com
END:VEVENT
BEGIN:VEVENT
DTSTART;TZID=America/New_York:20260322T100000
DTEND;TZID=America/New_York:20260322T110000
DTSTAMP:20260421T103549
CREATED:20250912T185348Z
LAST-MODIFIED:20250912T185348Z
UID:10001158-1774173600-1774177200@nchumanities.org
SUMMARY:Fall African American Walking Tours
DESCRIPTION:Autumn is perfect for walking! Explore Raleigh’s historic\, influential Black neighborhood\, the Third Ward\, near Shaw University—a hub of culture\, business\, and education.  \nRegistration is required. $10 per adult and $5 per child (ages 5-17)  \n  \nNOTE: Saturday tour times are 10 am\, 1 pm\, and 3 pm. Sunday time 2 pm \n  \nSeptember: Saturday 20th\, 27th and Sunday 21st\, 28th \nOctober: Saturday 4th\, 11th\, 18th\, 25th\, and Sunday 5th\, 12th\, 19th\, 26th \nNovember: Saturday 1st\, 8th\, 22nd and Sunday 2nd\, 9th\, 16th\, 23rd\, \nDecember: Saturday 6th\, 13th\, 20th\, and Sunday 7th\, 14th\, 21st
URL:https://nchumanities.org/event/fall-african-american-walking-tours/2026-03-22/
LOCATION:Pope House Museum\, 511 S Wilmington St\, Raleigh\, NC\, NC\, 27601\, United States
CATEGORIES:Humanities Sector Event
ATTACH;FMTTYPE=image/jpeg:https://nchumanities.org/wp-content/uploads/2025/09/832c5dfa-a132-47f3-bcb8-5bca9039cff6-scaled.jpg
ORGANIZER;CN="The City of Raleigh Museum":MAILTO:cormuseum@gmail.com
END:VEVENT
BEGIN:VEVENT
DTSTART;TZID=America/New_York:20260326T120000
DTEND;TZID=America/New_York:20260326T130000
DTSTAMP:20260421T103549
CREATED:20260313T175315Z
LAST-MODIFIED:20260313T175315Z
UID:10001358-1774526400-1774530000@nchumanities.org
SUMMARY:Lunchbox Lecture with Cheetie Kumar
DESCRIPTION:Cheetie Kumar is the chef/owner of Ajja\, and one of the operators behind the future Big Cat restaurant in Raleigh’s East Mordecai neighborhood. She has been profiled in The New York Times\, Southern Living and The Wall Street Journal\, and many other national publications. \nJoin us for an in-depth Q&A on Cheetie’s career\, food advocacy work\, and upcoming projects in the Raleigh restaurant scene.
URL:https://nchumanities.org/event/lunchbox-lecture-with-cheetie-kumar/
LOCATION:City of Raleigh Museum\, 220 Fayetteville Street\, Raleigh\, NC\, 27601\, United States
ATTACH;FMTTYPE=image/png:https://nchumanities.org/wp-content/uploads/2026/03/NEWLunchboxLectureFlyer_326-Social-Media-1080-x-1080-px.png
ORGANIZER;CN="Friends of the City of Raleigh Museum":MAILTO:cormuseum@gmail.com
GEO:35.7776508;-78.6397629
X-APPLE-STRUCTURED-LOCATION;VALUE=URI;X-ADDRESS=City of Raleigh Museum 220 Fayetteville Street Raleigh NC 27601 United States;X-APPLE-RADIUS=500;X-TITLE=220 Fayetteville Street:geo:-78.6397629,35.7776508
END:VEVENT
BEGIN:VEVENT
DTSTART;TZID=America/New_York:20260328T100000
DTEND;TZID=America/New_York:20260328T110000
DTSTAMP:20260421T103549
CREATED:20250912T185348Z
LAST-MODIFIED:20250912T185348Z
UID:10001159-1774692000-1774695600@nchumanities.org
SUMMARY:Fall African American Walking Tours
DESCRIPTION:Autumn is perfect for walking! Explore Raleigh’s historic\, influential Black neighborhood\, the Third Ward\, near Shaw University—a hub of culture\, business\, and education.  \nRegistration is required. $10 per adult and $5 per child (ages 5-17)  \n  \nNOTE: Saturday tour times are 10 am\, 1 pm\, and 3 pm. Sunday time 2 pm \n  \nSeptember: Saturday 20th\, 27th and Sunday 21st\, 28th \nOctober: Saturday 4th\, 11th\, 18th\, 25th\, and Sunday 5th\, 12th\, 19th\, 26th \nNovember: Saturday 1st\, 8th\, 22nd and Sunday 2nd\, 9th\, 16th\, 23rd\, \nDecember: Saturday 6th\, 13th\, 20th\, and Sunday 7th\, 14th\, 21st
URL:https://nchumanities.org/event/fall-african-american-walking-tours/2026-03-28/
LOCATION:Pope House Museum\, 511 S Wilmington St\, Raleigh\, NC\, NC\, 27601\, United States
CATEGORIES:Humanities Sector Event
ATTACH;FMTTYPE=image/jpeg:https://nchumanities.org/wp-content/uploads/2025/09/832c5dfa-a132-47f3-bcb8-5bca9039cff6-scaled.jpg
ORGANIZER;CN="The City of Raleigh Museum":MAILTO:cormuseum@gmail.com
END:VEVENT
BEGIN:VEVENT
DTSTART;TZID=America/New_York:20260329T100000
DTEND;TZID=America/New_York:20260329T110000
DTSTAMP:20260421T103549
CREATED:20250912T185348Z
LAST-MODIFIED:20250912T185348Z
UID:10001160-1774778400-1774782000@nchumanities.org
SUMMARY:Fall African American Walking Tours
DESCRIPTION:Autumn is perfect for walking! Explore Raleigh’s historic\, influential Black neighborhood\, the Third Ward\, near Shaw University—a hub of culture\, business\, and education.  \nRegistration is required. $10 per adult and $5 per child (ages 5-17)  \n  \nNOTE: Saturday tour times are 10 am\, 1 pm\, and 3 pm. Sunday time 2 pm \n  \nSeptember: Saturday 20th\, 27th and Sunday 21st\, 28th \nOctober: Saturday 4th\, 11th\, 18th\, 25th\, and Sunday 5th\, 12th\, 19th\, 26th \nNovember: Saturday 1st\, 8th\, 22nd and Sunday 2nd\, 9th\, 16th\, 23rd\, \nDecember: Saturday 6th\, 13th\, 20th\, and Sunday 7th\, 14th\, 21st
URL:https://nchumanities.org/event/fall-african-american-walking-tours/2026-03-29/
LOCATION:Pope House Museum\, 511 S Wilmington St\, Raleigh\, NC\, NC\, 27601\, United States
CATEGORIES:Humanities Sector Event
ATTACH;FMTTYPE=image/jpeg:https://nchumanities.org/wp-content/uploads/2025/09/832c5dfa-a132-47f3-bcb8-5bca9039cff6-scaled.jpg
ORGANIZER;CN="The City of Raleigh Museum":MAILTO:cormuseum@gmail.com
END:VEVENT
END:VCALENDAR