BEGIN:VCALENDAR
VERSION:2.0
PRODID:-//North Carolina Humanities - ECPv6.15.20//NONSGML v1.0//EN
CALSCALE:GREGORIAN
METHOD:PUBLISH
X-ORIGINAL-URL:https://nchumanities.org
X-WR-CALDESC:Events for North Carolina Humanities
REFRESH-INTERVAL;VALUE=DURATION:PT1H
X-Robots-Tag:noindex
X-PUBLISHED-TTL:PT1H
BEGIN:VTIMEZONE
TZID:America/New_York
BEGIN:DAYLIGHT
TZOFFSETFROM:-0500
TZOFFSETTO:-0400
TZNAME:EDT
DTSTART:20240310T070000
END:DAYLIGHT
BEGIN:STANDARD
TZOFFSETFROM:-0400
TZOFFSETTO:-0500
TZNAME:EST
DTSTART:20241103T060000
END:STANDARD
BEGIN:DAYLIGHT
TZOFFSETFROM:-0500
TZOFFSETTO:-0400
TZNAME:EDT
DTSTART:20250309T070000
END:DAYLIGHT
BEGIN:STANDARD
TZOFFSETFROM:-0400
TZOFFSETTO:-0500
TZNAME:EST
DTSTART:20251102T060000
END:STANDARD
BEGIN:DAYLIGHT
TZOFFSETFROM:-0500
TZOFFSETTO:-0400
TZNAME:EDT
DTSTART:20260308T070000
END:DAYLIGHT
BEGIN:STANDARD
TZOFFSETFROM:-0400
TZOFFSETTO:-0500
TZNAME:EST
DTSTART:20261101T060000
END:STANDARD
END:VTIMEZONE
BEGIN:VEVENT
DTSTART;TZID=America/New_York:20250228T110000
DTEND;TZID=America/New_York:20250321T130000
DTSTAMP:20260420T105123
CREATED:20250106T162100Z
LAST-MODIFIED:20250106T162100Z
UID:10000888-1740740400-1742562000@nchumanities.org
SUMMARY:Museum Mornings
DESCRIPTION:Start your Fridays with coffee\, culture\, and community! Throughout February\, the John P. “Top” Greene Community Center invites you to enjoy a complimentary cup of Dunkin’ coffee while engaging in enriching cultural discussions and exploring the fascinating onsite exhibit\, “Centuries in the Making”. Celebrate Black History Month as we highlight the inspiring legacy of East Raleigh & Historic South Park\, uncovering the stories\, achievements\, and contributions that continue to shape our community today. This event offers a welcoming space for reflection\, learning\, and connection.
URL:https://nchumanities.org/event/museum-mornings/2025-02-28/
LOCATION:John P Top Greene Community Center\, 401 Martin Luther King Jr Blvd\, Raleigh\, NC\, 27601\, United States
CATEGORIES:Humanities Sector Event
ATTACH;FMTTYPE=image/png:https://nchumanities.org/wp-content/uploads/2025/01/Screenshot-2025-01-03-at-3.12.29 PM.png
ORGANIZER;CN="John P. Top Greene Community Center":MAILTO:nadia.marriott@raleighnc.gov
END:VEVENT
BEGIN:VEVENT
DTSTART;TZID=America/New_York:20250318T180000
DTEND;TZID=America/New_York:20250318T200000
DTSTAMP:20260420T105123
CREATED:20250109T213110Z
LAST-MODIFIED:20250109T213110Z
UID:10000947-1742320800-1742328000@nchumanities.org
SUMMARY:Stories that Connect Us: Behind the Project a Panel Discussion on Telling the Full Story
DESCRIPTION:Save the date for an inspiring evening on March 18\, 2025\, at 6:00 PM at the Durham County Main Library! Join The Alliance for Historic Hillsborough and members of the Telling the Full Story committee for an engaging panel discussion about their journey in capturing Hillsborough’s vital history. Panelists will share stories of successes and challenges\, offering unique insights into how the project came to life. You’ll also view a selection of project videos and leave with ideas to start similar work in your own community. Perfect for history lovers\, community builders\, and anyone passionate about preserving local stories! \nWhat is Telling the Full Story: The Alliance for Historic Hillsborough’s Telling the Full Story program seeks to uncover and share the diverse\, often untold histories of Hillsborough. Through community conversations\, interactive maps\, and oral histories\, this program invites everyone to explore the people\, events\, and places that have shaped our community\, fostering a richer understanding of our shared heritage. \nFunding for this program generously provided by NC Humanities.
URL:https://nchumanities.org/event/stories-that-connect-us-behind-the-project-a-panel-discussion-on-telling-the-full-story/
LOCATION:Durham County Library\, 300 N. Roxboro Rd.\, Durham\, NC\, 27701\, United States
CATEGORIES:NC Humanities Grantee Event
ATTACH;FMTTYPE=image/png:https://nchumanities.org/wp-content/uploads/2025/01/2.png
ORGANIZER;CN="The Alliance for Historic Hillsborough":MAILTO:kelly@historichillsborough.org
END:VEVENT
BEGIN:VEVENT
DTSTART;TZID=America/New_York:20250318T183000
DTEND;TZID=America/New_York:20250318T200000
DTSTAMP:20260420T105123
CREATED:20250210T203349Z
LAST-MODIFIED:20250210T203349Z
UID:10000972-1742322600-1742328000@nchumanities.org
SUMMARY:Latin America Through Film (8-Week Class)
DESCRIPTION:Cine Casual is thrilled to announce our first-ever community class! Join us for an 8-week exploration of Latin American history through the lens of cinema. Together\, we’ll dive into iconic films that illuminate the region’s rich cultural\, political\, and social heritage. \n📅 Dates: Tuesdays from February 25 – April 15 (6:30 – 8 pm)*\n📍 Location: VisArt Video (3104 Eastway Dr\, Charlotte\, NC 28205)\n🎟️ Cost: Pay What You Can \n*Class dates: February 25\, March 4\, March 11\, March 18\, March 25\, April 1\, April 8\, April 15 \nWhether you’re a film enthusiast or simply curious about Latin America’s stories\, this class is designed to inspire and engage. \nSpots are limited\, so be sure to secure yours! \nQuestions? Email cinecasual@gmail.com \nThis program is supported in part by North Carolina Humanities\, the state affiliate of the National Endowment for the Humanities.
URL:https://nchumanities.org/event/latin-america-through-film-8-week-class/2025-03-18/
LOCATION:VisArt Video\, 3104 Eastway Dr.\, Charlotte\, NC\, 28205\, United States
CATEGORIES:NC Humanities Grantee Event
ATTACH;FMTTYPE=image/png:https://nchumanities.org/wp-content/uploads/2025/02/Latin-America-Through-Film-Class.png
ORGANIZER;CN="Cine Casual":MAILTO:cinecasaul@gmail.com
END:VEVENT
END:VCALENDAR