BEGIN:VCALENDAR
VERSION:2.0
PRODID:-//North Carolina Humanities - ECPv6.15.20//NONSGML v1.0//EN
CALSCALE:GREGORIAN
METHOD:PUBLISH
X-ORIGINAL-URL:https://nchumanities.org
X-WR-CALDESC:Events for North Carolina Humanities
REFRESH-INTERVAL;VALUE=DURATION:PT1H
X-Robots-Tag:noindex
X-PUBLISHED-TTL:PT1H
BEGIN:VTIMEZONE
TZID:America/New_York
BEGIN:DAYLIGHT
TZOFFSETFROM:-0500
TZOFFSETTO:-0400
TZNAME:EDT
DTSTART:20250309T070000
END:DAYLIGHT
BEGIN:STANDARD
TZOFFSETFROM:-0400
TZOFFSETTO:-0500
TZNAME:EST
DTSTART:20251102T060000
END:STANDARD
BEGIN:DAYLIGHT
TZOFFSETFROM:-0500
TZOFFSETTO:-0400
TZNAME:EDT
DTSTART:20260308T070000
END:DAYLIGHT
BEGIN:STANDARD
TZOFFSETFROM:-0400
TZOFFSETTO:-0500
TZNAME:EST
DTSTART:20261101T060000
END:STANDARD
BEGIN:DAYLIGHT
TZOFFSETFROM:-0500
TZOFFSETTO:-0400
TZNAME:EDT
DTSTART:20270314T070000
END:DAYLIGHT
BEGIN:STANDARD
TZOFFSETFROM:-0400
TZOFFSETTO:-0500
TZNAME:EST
DTSTART:20271107T060000
END:STANDARD
END:VTIMEZONE
BEGIN:VEVENT
DTSTART;TZID=America/New_York:20260718T100000
DTEND;TZID=America/New_York:20260718T110000
DTSTAMP:20260421T173826
CREATED:20250912T185348Z
LAST-MODIFIED:20250912T185348Z
UID:10001191-1784368800-1784372400@nchumanities.org
SUMMARY:Fall African American Walking Tours
DESCRIPTION:Autumn is perfect for walking! Explore Raleigh’s historic\, influential Black neighborhood\, the Third Ward\, near Shaw University—a hub of culture\, business\, and education.  \nRegistration is required. $10 per adult and $5 per child (ages 5-17)  \n  \nNOTE: Saturday tour times are 10 am\, 1 pm\, and 3 pm. Sunday time 2 pm \n  \nSeptember: Saturday 20th\, 27th and Sunday 21st\, 28th \nOctober: Saturday 4th\, 11th\, 18th\, 25th\, and Sunday 5th\, 12th\, 19th\, 26th \nNovember: Saturday 1st\, 8th\, 22nd and Sunday 2nd\, 9th\, 16th\, 23rd\, \nDecember: Saturday 6th\, 13th\, 20th\, and Sunday 7th\, 14th\, 21st
URL:https://nchumanities.org/event/fall-african-american-walking-tours/2026-07-18/
LOCATION:Pope House Museum\, 511 S Wilmington St\, Raleigh\, NC\, NC\, 27601\, United States
CATEGORIES:Humanities Sector Event
ATTACH;FMTTYPE=image/jpeg:https://nchumanities.org/wp-content/uploads/2025/09/832c5dfa-a132-47f3-bcb8-5bca9039cff6-scaled.jpg
ORGANIZER;CN="The City of Raleigh Museum":MAILTO:cormuseum@gmail.com
END:VEVENT
BEGIN:VEVENT
DTSTART;TZID=America/New_York:20260718T130000
DTEND;TZID=America/New_York:20260718T160000
DTSTAMP:20260421T173826
CREATED:20250625T133515Z
LAST-MODIFIED:20250625T133515Z
UID:10001074-1784379600-1784390400@nchumanities.org
SUMMARY:PUBLIC OPENING: Community Curated Exhibit "The Many Unheard Voices"
DESCRIPTION:You’re invited to attend the public opening of our community curated exhibit: The Many Unheard Voices. This exhibit tells the stories of the African American communities of Gaston County. Many of this stories have been left out of the narrative or haven’t been fully explored. We are proud to work with a variety of community members to tell an enriched story of our African American Communities.
URL:https://nchumanities.org/event/public-opening-community-curated-exhibit-the-many-unheard-voices/
LOCATION:Gaston County Museum of Art & History\, 131 W Main Street\, Dallas\, NC\, 28034-2021\, United States
CATEGORIES:NC Humanities Grantee Event
ORGANIZER;CN="Gaston County Museum of Art &amp%3B History":MAILTO:alicyn.wiedrich@gastongov.com
END:VEVENT
END:VCALENDAR