BEGIN:VCALENDAR
VERSION:2.0
PRODID:-//North Carolina Humanities - ECPv6.15.20//NONSGML v1.0//EN
CALSCALE:GREGORIAN
METHOD:PUBLISH
X-ORIGINAL-URL:https://nchumanities.org
X-WR-CALDESC:Events for North Carolina Humanities
REFRESH-INTERVAL;VALUE=DURATION:PT1H
X-Robots-Tag:noindex
X-PUBLISHED-TTL:PT1H
BEGIN:VTIMEZONE
TZID:America/New_York
BEGIN:DAYLIGHT
TZOFFSETFROM:-0500
TZOFFSETTO:-0400
TZNAME:EDT
DTSTART:20240310T070000
END:DAYLIGHT
BEGIN:STANDARD
TZOFFSETFROM:-0400
TZOFFSETTO:-0500
TZNAME:EST
DTSTART:20241103T060000
END:STANDARD
BEGIN:DAYLIGHT
TZOFFSETFROM:-0500
TZOFFSETTO:-0400
TZNAME:EDT
DTSTART:20250309T070000
END:DAYLIGHT
BEGIN:STANDARD
TZOFFSETFROM:-0400
TZOFFSETTO:-0500
TZNAME:EST
DTSTART:20251102T060000
END:STANDARD
BEGIN:DAYLIGHT
TZOFFSETFROM:-0500
TZOFFSETTO:-0400
TZNAME:EDT
DTSTART:20260308T070000
END:DAYLIGHT
BEGIN:STANDARD
TZOFFSETFROM:-0400
TZOFFSETTO:-0500
TZNAME:EST
DTSTART:20261101T060000
END:STANDARD
END:VTIMEZONE
BEGIN:VEVENT
DTSTART;TZID=America/New_York:20250208T100000
DTEND;TZID=America/New_York:20250208T120000
DTSTAMP:20260420T121900
CREATED:20250102T140536Z
LAST-MODIFIED:20250102T140536Z
UID:10000875-1739008800-1739016000@nchumanities.org
SUMMARY:Shaking your Family Tree 101
DESCRIPTION:Dive into the fascinating world of genealogy and uncover the stories that shaped your family’s past! In ‘Shaking Your Family Tree 101’\, you’ll learn how to trace your ancestry\, analyze historical records\, and explore your cultural heritage like never before. With hands-on access to powerful online databases and expert guidance\, this course makes piecing together your family tree both exciting and rewarding. \nWhether you’re a beginner or just curious about where you come from\, this class will ignite your passion for uncovering the hidden gems in your family history. Start your journey today and bring your ancestors’ stories to life!
URL:https://nchumanities.org/event/shaking-your-family-tree-101/2025-02-08/
LOCATION:John P. Top Greene Community Center\, 401 Martin Luther King Jr Blvd\, Raleigh\, NC\, 27601\, United States
CATEGORIES:Humanities Sector Event
ATTACH;FMTTYPE=image/jpeg:https://nchumanities.org/wp-content/uploads/2024/12/john-top-greene-sign-exterior.jpg
ORGANIZER;CN="John P. Top Greene Community Center":MAILTO:nadia.marriott@raleighnc.gov
END:VEVENT
END:VCALENDAR