BEGIN:VCALENDAR
VERSION:2.0
PRODID:-//North Carolina Humanities - ECPv6.15.20//NONSGML v1.0//EN
CALSCALE:GREGORIAN
METHOD:PUBLISH
X-ORIGINAL-URL:https://nchumanities.org
X-WR-CALDESC:Events for North Carolina Humanities
REFRESH-INTERVAL;VALUE=DURATION:PT1H
X-Robots-Tag:noindex
X-PUBLISHED-TTL:PT1H
BEGIN:VTIMEZONE
TZID:America/New_York
BEGIN:DAYLIGHT
TZOFFSETFROM:-0500
TZOFFSETTO:-0400
TZNAME:EDT
DTSTART:20240310T070000
END:DAYLIGHT
BEGIN:STANDARD
TZOFFSETFROM:-0400
TZOFFSETTO:-0500
TZNAME:EST
DTSTART:20241103T060000
END:STANDARD
BEGIN:DAYLIGHT
TZOFFSETFROM:-0500
TZOFFSETTO:-0400
TZNAME:EDT
DTSTART:20250309T070000
END:DAYLIGHT
BEGIN:STANDARD
TZOFFSETFROM:-0400
TZOFFSETTO:-0500
TZNAME:EST
DTSTART:20251102T060000
END:STANDARD
BEGIN:DAYLIGHT
TZOFFSETFROM:-0500
TZOFFSETTO:-0400
TZNAME:EDT
DTSTART:20260308T070000
END:DAYLIGHT
BEGIN:STANDARD
TZOFFSETFROM:-0400
TZOFFSETTO:-0500
TZNAME:EST
DTSTART:20261101T060000
END:STANDARD
END:VTIMEZONE
BEGIN:VEVENT
DTSTART;TZID=America/New_York:20250504T153000
DTEND;TZID=America/New_York:20250504T173000
DTSTAMP:20260422T080057
CREATED:20250113T144241Z
LAST-MODIFIED:20250113T144241Z
UID:10000950-1746372600-1746379800@nchumanities.org
SUMMARY:Resounding Resistance: Folk-Infused Classical Music\, 1937-1945
DESCRIPTION:Appalachian State University’s High Country Humanities—with support from North Carolina Humanities and the Watauga Arts Council —is pleased to present a public listening workshop\, followed by a free concert. These events will form a two-part program titled “Resounding Resistance: Folk-Infused Classical Music\, 1937-1945\,” which will take place on Sunday\, May 4\, 2025\, from 3:30-5:30 p.m. at the Rosen Concert Hall in Appalachian’s Broyhill Music Center at 813 Rivers Street in Boone. Doors will open at 3:00 p.m. \nThe listening workshop\, sponsored by a Small Project Grant from North Carolina Humanities\, celebrates the eightieth anniversary of the “Asheville Concerto” (“Piano Concerto No. 3”) by Béla Bartók (1881-1945)\, a Hungarian composer who fled Europe during World War II and spent his final summer in Western North Carolina. It will open with two brief TED-style talks by Dr. Darci Gardner and Dr. Jacob Kopcienski\, who will explain the history of the piece and its composition. Then\, guest collaborative pianists from the University of North Carolina at Chapel Hill’s Department of Music\, Mr. Teddy Robie and Mrs. Mimi Solomon\, will use two pianos to demonstrate their interpretations of the piece before answering audience questions.
URL:https://nchumanities.org/event/resounding-resistance-folk-infused-classical-music-1937-1945/
LOCATION:Rosen Concert Hall in the Broyhill Music Center\, 813 Rivers Street\, Boone\, NC\, 28608\, United States
CATEGORIES:NC Humanities Grantee Event
ATTACH;FMTTYPE=image/png:https://nchumanities.org/wp-content/uploads/2025/01/ResoundingResistance_EngageBanner.png
ORGANIZER;CN="High Country Humanities":MAILTO:hchumanities@appstate.edu
END:VEVENT
BEGIN:VEVENT
DTSTART;TZID=America/New_York:20250510T080000
DTEND;TZID=America/New_York:20250510T170000
DTSTAMP:20260422T080057
CREATED:20250102T140536Z
LAST-MODIFIED:20250102T140536Z
UID:10000876-1746864000-1746896400@nchumanities.org
SUMMARY:Shaking your Family Tree 101
DESCRIPTION:Dive into the fascinating world of genealogy and uncover the stories that shaped your family’s past! In ‘Shaking Your Family Tree 101’\, you’ll learn how to trace your ancestry\, analyze historical records\, and explore your cultural heritage like never before. With hands-on access to powerful online databases and expert guidance\, this course makes piecing together your family tree both exciting and rewarding. \nWhether you’re a beginner or just curious about where you come from\, this class will ignite your passion for uncovering the hidden gems in your family history. Start your journey today and bring your ancestors’ stories to life!
URL:https://nchumanities.org/event/shaking-your-family-tree-101/2025-05-10/
LOCATION:John P. Top Greene Community Center\, 401 Martin Luther King Jr Blvd\, Raleigh\, NC\, 27601\, United States
CATEGORIES:Humanities Sector Event
ATTACH;FMTTYPE=image/jpeg:https://nchumanities.org/wp-content/uploads/2024/12/john-top-greene-sign-exterior.jpg
ORGANIZER;CN="John P. Top Greene Community Center":MAILTO:nadia.marriott@raleighnc.gov
END:VEVENT
END:VCALENDAR