BEGIN:VCALENDAR
VERSION:2.0
PRODID:-//North Carolina Humanities - ECPv6.15.20//NONSGML v1.0//EN
CALSCALE:GREGORIAN
METHOD:PUBLISH
X-ORIGINAL-URL:https://nchumanities.org
X-WR-CALDESC:Events for North Carolina Humanities
REFRESH-INTERVAL;VALUE=DURATION:PT1H
X-Robots-Tag:noindex
X-PUBLISHED-TTL:PT1H
BEGIN:VTIMEZONE
TZID:America/New_York
BEGIN:DAYLIGHT
TZOFFSETFROM:-0500
TZOFFSETTO:-0400
TZNAME:EDT
DTSTART:20240310T070000
END:DAYLIGHT
BEGIN:STANDARD
TZOFFSETFROM:-0400
TZOFFSETTO:-0500
TZNAME:EST
DTSTART:20241103T060000
END:STANDARD
BEGIN:DAYLIGHT
TZOFFSETFROM:-0500
TZOFFSETTO:-0400
TZNAME:EDT
DTSTART:20250309T070000
END:DAYLIGHT
BEGIN:STANDARD
TZOFFSETFROM:-0400
TZOFFSETTO:-0500
TZNAME:EST
DTSTART:20251102T060000
END:STANDARD
BEGIN:DAYLIGHT
TZOFFSETFROM:-0500
TZOFFSETTO:-0400
TZNAME:EDT
DTSTART:20260308T070000
END:DAYLIGHT
BEGIN:STANDARD
TZOFFSETFROM:-0400
TZOFFSETTO:-0500
TZNAME:EST
DTSTART:20261101T060000
END:STANDARD
END:VTIMEZONE
BEGIN:VEVENT
DTSTART;TZID=America/New_York:20250616T100000
DTEND;TZID=America/New_York:20250616T170000
DTSTAMP:20260422T094207
CREATED:20250616T134302Z
LAST-MODIFIED:20250616T134302Z
UID:10001069-1750068000-1750093200@nchumanities.org
SUMMARY:Scotland In Our Backyard Video Series
DESCRIPTION:Series Launch OverviewJoin us for the virtual launch of Scotland In Our Backyard\, a grant-funded video series crafted to bring Scottish heritage to life—whether you’re teaching in a North Carolina classroom or exploring Scottish culture with your young learners at home! Dive into Scots Gaelic language\, Highland piping\, folklore\, dance\, and more—complete with downloadable activity sheets and teaching guides. \n\nRelease Schedule \n\n\nEpisode 1 On-Demand: Starting on June 16\, 2025 at 10:00 AM ET \n\n\nYouTube Premiere & Live Chat Q&A: June 18\, 2025 at 10:00 AM ET \n\n\nEpisodes 2–12 Drip Release: One new episode goes live each day at 10:00 AM ET from June 17 through June 28\, 2025 \n\n\nOn-Demand Viewing: Every episode remains available immediately after its release \n\n\n\nFormat \n\n\nYouTube Premiere: Synchronized countdown playback and live chat Q&A for Episode 1 \n\n\nLive Chat Q&A: Ask questions in the YouTube chat during the Premiere—our production team will respond in real time \n\n\nOn-Demand Viewing: All episodes can be watched at your convenience once released \n\n\n\nWho Should “Attend” \n\n\nK-5 classroom teachers in North Carolina \n\n\nCurriculum coordinators & instructional coaches \n\n\nLibrary media specialists & after-school program facilitators \n\n\nParents and caregivers of young children at home \n\n\n\nWhat You’ll Discover \n\n\nA guided walkthrough of the Series content and learning goals \n\n\nTips for aligning videos and printable activities with NC standards and PYP learning—and adapting them for at-home learning \n\n\nSneak peek at our full suite of downloadable resource packs (worksheets\, coloring pages\, story prompts) \n\n\nBest practices for engaging young learners via video\, both in school and at home \n\n\n\nHow to AccessAll links to watch the videos\, join the Premiere chat\, and download resources are available at:scotlandintheclass.com/scotlandinourbackyard \n\nAcknowledgmentsThis program is supported in part by North Carolina Humanities\, the state affiliate of the National Endowment for the Humanities. Any views\, findings\, conclusions\, or recommendations expressed in this series do not necessarily represent those of North Carolina Humanities or the National Endowment for the Humanities.
URL:https://nchumanities.org/event/scotland-in-our-backyard-video-series/
LOCATION:NC
CATEGORIES:NC Humanities Grantee Event
ATTACH;FMTTYPE=image/png:https://nchumanities.org/wp-content/uploads/2025/06/Ewan-the-Unicorn.png
ORGANIZER;CN="The Scottish Cultural Outreach Foundation":MAILTO:jennifer@highlandechoes.com
END:VEVENT
BEGIN:VEVENT
DTSTART;VALUE=DATE:20250619
DTEND;VALUE=DATE:20250623
DTSTAMP:20260422T094207
CREATED:20250224T145338Z
LAST-MODIFIED:20250224T145338Z
UID:10001000-1750291200-1750636799@nchumanities.org
SUMMARY:Jane Austen Summer Program 2025
DESCRIPTION:We will celebrate the 250th anniversary of Austen’s birth in 1775. Our transatlantic celebration will take place June 19-22\, 2025 in historic New Bern\, NC. \nIn line with our theme “Sensibility and Domesticity\,” we will explore topics including medicine\, birth\, and domestic arts in Regency England and colonial North Carolina.  Join us as we focus on Austen’s first published novel\, Sense and Sensibility—considering the birth of her career as a published writer as well as taking a transatlantic look at the world into which she was born. \nThe Jane Austen Summer Program (JASP) is designed to appeal to anyone with a passion for all things Austen. Attendees include people from all walks of life\, as well as established scholars\, high school teachers\, and students from middle school through graduate school.
URL:https://nchumanities.org/event/jane-austen-summer-program-2025/
LOCATION:NC
CATEGORIES:NC Humanities Grantee Event
ATTACH;FMTTYPE=image/png:https://nchumanities.org/wp-content/uploads/2025/02/jasp25-logo.png
ORGANIZER;CN="Jane Austen &amp%3Bamp%3B Co./The Jane Austen Summer Program":MAILTO:info@janeaustenandco.org
END:VEVENT
BEGIN:VEVENT
DTSTART;TZID=America/New_York:20250621T110000
DTEND;TZID=America/New_York:20250621T150000
DTSTAMP:20260422T094207
CREATED:20250610T214807Z
LAST-MODIFIED:20250610T214807Z
UID:10001064-1750503600-1750518000@nchumanities.org
SUMMARY:Juneteenth Storytelling Festival at Latta University Historic Park
DESCRIPTION:Enjoy a celebratory Juneteenth festival with live storytelling\, an interactive puppet show\, food trucks\, and crafts for kids in a historic park honoring African American freedom and community. \nBring your family\, friends\, and neighbors for a day filled with stories\, music\, food\, and connection.
URL:https://nchumanities.org/event/juneteenth-storytelling-festival-at-latta-university-historic-park/
LOCATION:Latta University Historic Park\, 1001 Parker Street\, Raleigh\, NC\, 27607\, United States
CATEGORIES:Humanities Sector Event
ATTACH;FMTTYPE=image/jpeg:https://nchumanities.org/wp-content/uploads/2025/06/Pope_House_Juneteenth140-scaled.jpg
END:VEVENT
BEGIN:VEVENT
DTSTART;TZID=America/New_York:20250626T120000
DTEND;TZID=America/New_York:20250626T130000
DTSTAMP:20260422T094207
CREATED:20250610T214508Z
LAST-MODIFIED:20250610T214508Z
UID:10001061-1750939200-1750942800@nchumanities.org
SUMMARY:Lunch Box Lectures at the City of Raleigh Museum
DESCRIPTION:Feed your belly and your brain!\nBring your lunch to the City of Raleigh Museum and listen to a captivating lecture every third Thursday of the month. \nTime: noon – 12:45 p.m.\nAges: All\nCost: Free \n\n\nErin Morton Pugh and Tania Tully\nThursday\, June 26 \nJoin Erin Morton Pugh and Tania Tully from the City of Raleigh’s Historic Preservation Unit. They have recently completed a project to learn about historic places important to the city’s LGBTQIA+ communities. Come hear about how the project got started\, the consultant’s research process\, highlights from the report\, and potential next steps. \n 
URL:https://nchumanities.org/event/lunch-box-lectures-at-the-city-of-raleigh-museum/
LOCATION:City of Raleigh Museum\, 220 Fayetteville Street\, Raleigh\, NC\, 27601\, United States
CATEGORIES:Humanities Sector Event
ORGANIZER;CN="Friends of the City of Raleigh Museum":MAILTO:cormuseum@gmail.com
GEO:35.7776508;-78.6397629
X-APPLE-STRUCTURED-LOCATION;VALUE=URI;X-ADDRESS=City of Raleigh Museum 220 Fayetteville Street Raleigh NC 27601 United States;X-APPLE-RADIUS=500;X-TITLE=220 Fayetteville Street:geo:-78.6397629,35.7776508
END:VEVENT
END:VCALENDAR