BEGIN:VCALENDAR
VERSION:2.0
PRODID:-//North Carolina Humanities - ECPv6.15.20//NONSGML v1.0//EN
CALSCALE:GREGORIAN
METHOD:PUBLISH
X-ORIGINAL-URL:https://nchumanities.org
X-WR-CALDESC:Events for North Carolina Humanities
REFRESH-INTERVAL;VALUE=DURATION:PT1H
X-Robots-Tag:noindex
X-PUBLISHED-TTL:PT1H
BEGIN:VTIMEZONE
TZID:America/New_York
BEGIN:DAYLIGHT
TZOFFSETFROM:-0500
TZOFFSETTO:-0400
TZNAME:EDT
DTSTART:20240310T070000
END:DAYLIGHT
BEGIN:STANDARD
TZOFFSETFROM:-0400
TZOFFSETTO:-0500
TZNAME:EST
DTSTART:20241103T060000
END:STANDARD
BEGIN:DAYLIGHT
TZOFFSETFROM:-0500
TZOFFSETTO:-0400
TZNAME:EDT
DTSTART:20250309T070000
END:DAYLIGHT
BEGIN:STANDARD
TZOFFSETFROM:-0400
TZOFFSETTO:-0500
TZNAME:EST
DTSTART:20251102T060000
END:STANDARD
BEGIN:DAYLIGHT
TZOFFSETFROM:-0500
TZOFFSETTO:-0400
TZNAME:EDT
DTSTART:20260308T070000
END:DAYLIGHT
BEGIN:STANDARD
TZOFFSETFROM:-0400
TZOFFSETTO:-0500
TZNAME:EST
DTSTART:20261101T060000
END:STANDARD
END:VTIMEZONE
BEGIN:VEVENT
DTSTART;TZID=America/New_York:20250430T200000
DTEND;TZID=America/New_York:20250430T210000
DTSTAMP:20260422T075628
CREATED:20250421T133610Z
LAST-MODIFIED:20250421T133610Z
UID:10001037-1746043200-1746046800@nchumanities.org
SUMMARY:Jazz and Democracy
DESCRIPTION: “Jazz as Democracy” — Lecture/Concert on April 30\, 8-9PM\, Crossroads\, Plemmons Student Union \n The lecture by Todd Wright followed by the concert\, featuring the Todd Wright Quintet\, will include jazz music of North Carolina icons John Coltrane\, Roberta Flack\, Thelonious Monk\, and others. \nThe musicians:  Todd Wright\, saxophone; Rick Simerly\, trombone; Andy Page\, guitar; Adam Booker\, bass; Rick Cline\, drums
URL:https://nchumanities.org/event/jazz-and-democracy/
LOCATION:Crossroads\, Plemmons Student Union\, Appalachian State University\, 238 Locust Street\, Boone\, NC\, 28608\, United States
CATEGORIES:NC Humanities Grantee Event
ATTACH;FMTTYPE=image/jpeg:https://nchumanities.org/wp-content/uploads/2025/04/Lester_032024_0055-1-scaled.jpeg
END:VEVENT
END:VCALENDAR