BEGIN:VCALENDAR
VERSION:2.0
PRODID:-//North Carolina Humanities - ECPv6.15.20//NONSGML v1.0//EN
CALSCALE:GREGORIAN
METHOD:PUBLISH
X-WR-CALNAME:North Carolina Humanities
X-ORIGINAL-URL:https://nchumanities.org
X-WR-CALDESC:Events for North Carolina Humanities
REFRESH-INTERVAL;VALUE=DURATION:PT1H
X-Robots-Tag:noindex
X-PUBLISHED-TTL:PT1H
BEGIN:VTIMEZONE
TZID:America/New_York
BEGIN:DAYLIGHT
TZOFFSETFROM:-0500
TZOFFSETTO:-0400
TZNAME:EDT
DTSTART:20240310T070000
END:DAYLIGHT
BEGIN:STANDARD
TZOFFSETFROM:-0400
TZOFFSETTO:-0500
TZNAME:EST
DTSTART:20241103T060000
END:STANDARD
BEGIN:DAYLIGHT
TZOFFSETFROM:-0500
TZOFFSETTO:-0400
TZNAME:EDT
DTSTART:20250309T070000
END:DAYLIGHT
BEGIN:STANDARD
TZOFFSETFROM:-0400
TZOFFSETTO:-0500
TZNAME:EST
DTSTART:20251102T060000
END:STANDARD
BEGIN:DAYLIGHT
TZOFFSETFROM:-0500
TZOFFSETTO:-0400
TZNAME:EDT
DTSTART:20260308T070000
END:DAYLIGHT
BEGIN:STANDARD
TZOFFSETFROM:-0400
TZOFFSETTO:-0500
TZNAME:EST
DTSTART:20261101T060000
END:STANDARD
END:VTIMEZONE
BEGIN:VEVENT
DTSTART;TZID=America/New_York:20250626T120000
DTEND;TZID=America/New_York:20250626T130000
DTSTAMP:20260424T040938
CREATED:20250610T214508Z
LAST-MODIFIED:20250610T214508Z
UID:10001061-1750939200-1750942800@nchumanities.org
SUMMARY:Lunch Box Lectures at the City of Raleigh Museum
DESCRIPTION:Feed your belly and your brain!\nBring your lunch to the City of Raleigh Museum and listen to a captivating lecture every third Thursday of the month. \nTime: noon – 12:45 p.m.\nAges: All\nCost: Free \n\n\nErin Morton Pugh and Tania Tully\nThursday\, June 26 \nJoin Erin Morton Pugh and Tania Tully from the City of Raleigh’s Historic Preservation Unit. They have recently completed a project to learn about historic places important to the city’s LGBTQIA+ communities. Come hear about how the project got started\, the consultant’s research process\, highlights from the report\, and potential next steps. \n 
URL:https://nchumanities.org/event/lunch-box-lectures-at-the-city-of-raleigh-museum/
LOCATION:City of Raleigh Museum\, 220 Fayetteville Street\, Raleigh\, NC\, 27601\, United States
CATEGORIES:Humanities Sector Event
ORGANIZER;CN="Friends of the City of Raleigh Museum":MAILTO:cormuseum@gmail.com
GEO:35.7776508;-78.6397629
X-APPLE-STRUCTURED-LOCATION;VALUE=URI;X-ADDRESS=City of Raleigh Museum 220 Fayetteville Street Raleigh NC 27601 United States;X-APPLE-RADIUS=500;X-TITLE=220 Fayetteville Street:geo:-78.6397629,35.7776508
END:VEVENT
END:VCALENDAR