BEGIN:VCALENDAR
VERSION:2.0
PRODID:-//North Carolina Humanities - ECPv6.15.20//NONSGML v1.0//EN
CALSCALE:GREGORIAN
METHOD:PUBLISH
X-WR-CALNAME:North Carolina Humanities
X-ORIGINAL-URL:https://nchumanities.org
X-WR-CALDESC:Events for North Carolina Humanities
REFRESH-INTERVAL;VALUE=DURATION:PT1H
X-Robots-Tag:noindex
X-PUBLISHED-TTL:PT1H
BEGIN:VTIMEZONE
TZID:America/New_York
BEGIN:DAYLIGHT
TZOFFSETFROM:-0500
TZOFFSETTO:-0400
TZNAME:EDT
DTSTART:20240310T070000
END:DAYLIGHT
BEGIN:STANDARD
TZOFFSETFROM:-0400
TZOFFSETTO:-0500
TZNAME:EST
DTSTART:20241103T060000
END:STANDARD
BEGIN:DAYLIGHT
TZOFFSETFROM:-0500
TZOFFSETTO:-0400
TZNAME:EDT
DTSTART:20250309T070000
END:DAYLIGHT
BEGIN:STANDARD
TZOFFSETFROM:-0400
TZOFFSETTO:-0500
TZNAME:EST
DTSTART:20251102T060000
END:STANDARD
BEGIN:DAYLIGHT
TZOFFSETFROM:-0500
TZOFFSETTO:-0400
TZNAME:EDT
DTSTART:20260308T070000
END:DAYLIGHT
BEGIN:STANDARD
TZOFFSETFROM:-0400
TZOFFSETTO:-0500
TZNAME:EST
DTSTART:20261101T060000
END:STANDARD
END:VTIMEZONE
BEGIN:VEVENT
DTSTART;TZID=America/New_York:20251025T150000
DTEND;TZID=America/New_York:20251025T160000
DTSTAMP:20260424T054344
CREATED:20250610T214330Z
LAST-MODIFIED:20250610T214330Z
UID:10001059-1761404400-1761408000@nchumanities.org
SUMMARY:Music of the Appalachian Highlands\, Setting the Stage for the Birth of Country Music
DESCRIPTION:For RiddleFest Seminar 2025 Roy Andrade (guitar\, mandolin) and Kalia Yeagle (fiddle)\, faculty members from the Bluegrass\, Old-Time\, and Roots Music program in the Department of Appalachian Studies at East Tennessee State University\, will explore the musicians and music of the southern Appalachian Highlands with reference to the musical development of Lesley Riddle and AP Carter\, who are considered to be key figures in the birth of country music. The Seminar is free and open to the public.
URL:https://nchumanities.org/event/music-of-the-appalachian-highlands-setting-the-stage-for-the-birth-of-country-music/
LOCATION:Burnsville Town Center\, 6 South Main Street\, Burnsville\, NC\, 28714\, United States
CATEGORIES:NC Humanities Grantee Event
ORGANIZER;CN="Traditional Voices Group":MAILTO:traditionalvoicesgroup@gmail.com
GEO:35.9163407;-82.2999491
X-APPLE-STRUCTURED-LOCATION;VALUE=URI;X-ADDRESS=Burnsville Town Center 6 South Main Street Burnsville NC 28714 United States;X-APPLE-RADIUS=500;X-TITLE=6 South Main Street:geo:-82.2999491,35.9163407
END:VEVENT
END:VCALENDAR