BEGIN:VCALENDAR
VERSION:2.0
PRODID:-//North Carolina Humanities - ECPv6.15.20//NONSGML v1.0//EN
CALSCALE:GREGORIAN
METHOD:PUBLISH
X-ORIGINAL-URL:https://nchumanities.org
X-WR-CALDESC:Events for North Carolina Humanities
REFRESH-INTERVAL;VALUE=DURATION:PT1H
X-Robots-Tag:noindex
X-PUBLISHED-TTL:PT1H
BEGIN:VTIMEZONE
TZID:America/New_York
BEGIN:DAYLIGHT
TZOFFSETFROM:-0500
TZOFFSETTO:-0400
TZNAME:EDT
DTSTART:20240310T070000
END:DAYLIGHT
BEGIN:STANDARD
TZOFFSETFROM:-0400
TZOFFSETTO:-0500
TZNAME:EST
DTSTART:20241103T060000
END:STANDARD
BEGIN:DAYLIGHT
TZOFFSETFROM:-0500
TZOFFSETTO:-0400
TZNAME:EDT
DTSTART:20250309T070000
END:DAYLIGHT
BEGIN:STANDARD
TZOFFSETFROM:-0400
TZOFFSETTO:-0500
TZNAME:EST
DTSTART:20251102T060000
END:STANDARD
BEGIN:DAYLIGHT
TZOFFSETFROM:-0500
TZOFFSETTO:-0400
TZNAME:EDT
DTSTART:20260308T070000
END:DAYLIGHT
BEGIN:STANDARD
TZOFFSETFROM:-0400
TZOFFSETTO:-0500
TZNAME:EST
DTSTART:20261101T060000
END:STANDARD
END:VTIMEZONE
BEGIN:VEVENT
DTSTART;TZID=America/New_York:20251010T160000
DTEND;TZID=America/New_York:20251010T190000
DTSTAMP:20260423T081952
CREATED:20250929T151145Z
LAST-MODIFIED:20250929T151145Z
UID:10001245-1760112000-1760122800@nchumanities.org
SUMMARY:Living History in the Park
DESCRIPTION:Friday\, October 10\, 2025\n4pm-7pm\nMoore Square Park 201 South Blount Street Raleigh\, NC 27601 \nThe City of Raleigh Museum with support from Moore Square and The Friends of the City of Raleigh Museum are presenting an immersive living history experience at Moore Square! There’s a chill in the air\, the leaves are turning rich vibrant colors and as the sun goes down in Moore Square\, some very special visitors from Raleigh’s past will be on hand to share their experiences and contributions to Raleigh’s history. Join us at the Community Tables after your stroll through history to make a fall-themed craft.There will be Fall Snacks and beverages as well as a premiere craft experience available for purchase to help benefit the City of Raleigh Museum. Some of our vendor partners will be on hand with Food and Beverage for purchase.
URL:https://nchumanities.org/event/living-history-in-the-park/
LOCATION:Moore Square\, ﻿﻿Moore Square Park 201 South Blount Street\, Raleigh\, NC\, 27601\, United States
CATEGORIES:Humanities Sector Event
ATTACH;FMTTYPE=image/png:https://nchumanities.org/wp-content/uploads/2025/09/2025-Living-History-Poster-4-scaled.png
ORGANIZER;CN="The City of Raleigh Museum":MAILTO:cormuseum@gmail.com
END:VEVENT
END:VCALENDAR